BEGIN:VCALENDAR
VERSION:2.0
PRODID:-//Liga UFD - ECPv5.0.2.1//NONSGML v1.0//EN
CALSCALE:GREGORIAN
METHOD:PUBLISH
X-WR-CALNAME:Liga UFD
X-ORIGINAL-URL:https://ligaufd.mx
X-WR-CALDESC:Eventos para Liga UFD 
BEGIN:VTIMEZONE
TZID:America/Chicago
BEGIN:DAYLIGHT
TZOFFSETFROM:-0600
TZOFFSETTO:-0500
TZNAME:CDT
DTSTART:20200308T080000
END:DAYLIGHT
BEGIN:STANDARD
TZOFFSETFROM:-0500
TZOFFSETTO:-0600
TZNAME:CST
DTSTART:20201101T070000
END:STANDARD
END:VTIMEZONE
BEGIN:VEVENT
DTSTART;VALUE=DATE:20200318
DTEND;VALUE=DATE:20200601
DTSTAMP:20260421T181231
CREATED:20200318T193812Z
LAST-MODIFIED:20200430T183033Z
UID:3742-1584489600-1590969599@ligaufd.mx
SUMMARY:Cancelación de actividades
DESCRIPTION:ESTIMADOS DELEGADOS DE LA LIGA UFD\nPor medio del presente oficio\, el Comité de la Liga UFD  informa\, que a partir de las medidas sanitarias por parte de la Secretaria de Salud y en conjunto con la Secretaria de Educación Pública\, debido a la situación actual por el brote del Coronavirus COVID-19\,  a partir del día de hoy martes 17 de marzo de 2020 se cancelan todos los partidos programados hasta el domingo 31 de mayo del mismo año\, o hasta nuevo aviso. Con el fin de cuidar la integridad física y de salud de cada uno de los participantes de esta Liga. \nSe continuará monitoreando la situación para mantendremos informados sobre la reanudación de las actividades para el torneo correspondiente de Clausura 2020 de la Liga UFD. \nSin más por el momento\, agradecemos de su consideración y apoyo\, seguimos a sus órdenes para cualquier duda o aclaración. \n  \nAtentamente: \nComité Organizador \n
URL:https://ligaufd.mx/evento/cancelacion-de-actividades/
CATEGORIES:General
END:VEVENT
END:VCALENDAR