BEGIN:VCALENDAR
VERSION:2.0
PRODID:-//Liga UFD - ECPv5.0.2.1//NONSGML v1.0//EN
CALSCALE:GREGORIAN
METHOD:PUBLISH
X-WR-CALNAME:Liga UFD
X-ORIGINAL-URL:https://ligaufd.mx
X-WR-CALDESC:Eventos para Liga UFD 
BEGIN:VTIMEZONE
TZID:America/Chicago
BEGIN:DAYLIGHT
TZOFFSETFROM:-0600
TZOFFSETTO:-0500
TZNAME:CDT
DTSTART:20220313T080000
END:DAYLIGHT
BEGIN:STANDARD
TZOFFSETFROM:-0500
TZOFFSETTO:-0600
TZNAME:CST
DTSTART:20221106T070000
END:STANDARD
END:VTIMEZONE
BEGIN:VEVENT
DTSTART;VALUE=DATE:20220228
DTEND;VALUE=DATE:20220307
DTSTAMP:20260422T010107
CREATED:20220210T171055Z
LAST-MODIFIED:20220210T235151Z
UID:3696-1646006400-1646611199@ligaufd.mx
SUMMARY:Jornada 3
DESCRIPTION:Jornada 3 de la Liga UFD \n
URL:https://ligaufd.mx/evento/jornada-3/
CATEGORIES:General
END:VEVENT
END:VCALENDAR