BEGIN:VCALENDAR
VERSION:2.0
PRODID:-//Liga UFD - ECPv5.0.2.1//NONSGML v1.0//EN
CALSCALE:GREGORIAN
METHOD:PUBLISH
X-WR-CALNAME:Liga UFD
X-ORIGINAL-URL:https://ligaufd.mx
X-WR-CALDESC:Eventos para Liga UFD 
BEGIN:VTIMEZONE
TZID:America/Chicago
BEGIN:DAYLIGHT
TZOFFSETFROM:-0600
TZOFFSETTO:-0500
TZNAME:CDT
DTSTART:20220313T080000
END:DAYLIGHT
BEGIN:STANDARD
TZOFFSETFROM:-0500
TZOFFSETTO:-0600
TZNAME:CST
DTSTART:20221106T070000
END:STANDARD
END:VTIMEZONE
BEGIN:VEVENT
DTSTART;VALUE=DATE:20220328
DTEND;VALUE=DATE:20220404
DTSTAMP:20260421T230901
CREATED:20220210T175325Z
LAST-MODIFIED:20220211T000128Z
UID:3726-1648425600-1649030399@ligaufd.mx
SUMMARY:Jornada 7
DESCRIPTION:Jornada 7 de la Liga UFD \n
URL:https://ligaufd.mx/evento/jornada-7/
CATEGORIES:General
END:VEVENT
END:VCALENDAR