BEGIN:VCALENDAR
VERSION:2.0
PRODID:-//Liga UFD - ECPv5.0.2.1//NONSGML v1.0//EN
CALSCALE:GREGORIAN
METHOD:PUBLISH
X-WR-CALNAME:Liga UFD
X-ORIGINAL-URL:https://ligaufd.mx
X-WR-CALDESC:Eventos para Liga UFD 
BEGIN:VTIMEZONE
TZID:America/Chicago
BEGIN:DAYLIGHT
TZOFFSETFROM:-0600
TZOFFSETTO:-0500
TZNAME:CDT
DTSTART:20220313T080000
END:DAYLIGHT
BEGIN:STANDARD
TZOFFSETFROM:-0500
TZOFFSETTO:-0600
TZNAME:CST
DTSTART:20221106T070000
END:STANDARD
END:VTIMEZONE
BEGIN:VEVENT
DTSTART;TZID=America/Chicago:20220210T190000
DTEND;TZID=America/Chicago:20220210T210000
DTSTAMP:20260421T211032
CREATED:20220205T193646Z
LAST-MODIFIED:20220210T190014Z
UID:3649-1644519600-1644526800@ligaufd.mx
SUMMARY:Junta Técnica
DESCRIPTION:Junta Técnica del Torneo Clausura 2022 de la Liga UFD. \n
URL:https://ligaufd.mx/evento/junta-tecnica/
LOCATION:Pabellón Joseph Blatter\, Libramiento circuito de la Concepción\, San Agustín Tlaxiaca\, Hidalgo\, 42160\, Mexico
CATEGORIES:General
END:VEVENT
END:VCALENDAR