BEGIN:VCALENDAR
VERSION:2.0
PRODID:-//Liga UFD - ECPv5.0.2.1//NONSGML v1.0//EN
CALSCALE:GREGORIAN
METHOD:PUBLISH
X-WR-CALNAME:Liga UFD
X-ORIGINAL-URL:https://ligaufd.mx
X-WR-CALDESC:Eventos para Liga UFD 
BEGIN:VTIMEZONE
TZID:America/Chicago
BEGIN:DAYLIGHT
TZOFFSETFROM:-0600
TZOFFSETTO:-0500
TZNAME:CDT
DTSTART:20200308T080000
END:DAYLIGHT
BEGIN:STANDARD
TZOFFSETFROM:-0500
TZOFFSETTO:-0600
TZNAME:CST
DTSTART:20201101T070000
END:STANDARD
END:VTIMEZONE
BEGIN:VEVENT
DTSTART;VALUE=DATE:20200406
DTEND;VALUE=DATE:20200420
DTSTAMP:20260421T205042
CREATED:20200318T174718Z
LAST-MODIFIED:20200318T174718Z
UID:3720-1586131200-1587340799@ligaufd.mx
SUMMARY:Periodo Transitorio
DESCRIPTION:Periodo Transitorio por la Semana Santa \n
URL:https://ligaufd.mx/evento/periodo-transitorio/
CATEGORIES:General
END:VEVENT
END:VCALENDAR