BEGIN:VCALENDAR
VERSION:2.0
PRODID:-//Liga UFD - ECPv5.0.2.1//NONSGML v1.0//EN
CALSCALE:GREGORIAN
METHOD:PUBLISH
X-WR-CALNAME:Liga UFD
X-ORIGINAL-URL:https://ligaufd.mx
X-WR-CALDESC:Eventos para Liga UFD 
BEGIN:VTIMEZONE
TZID:America/Chicago
BEGIN:DAYLIGHT
TZOFFSETFROM:-0600
TZOFFSETTO:-0500
TZNAME:CDT
DTSTART:20200308T080000
END:DAYLIGHT
BEGIN:STANDARD
TZOFFSETFROM:-0500
TZOFFSETTO:-0600
TZNAME:CST
DTSTART:20201101T070000
END:STANDARD
END:VTIMEZONE
BEGIN:VEVENT
DTSTART;VALUE=DATE:20200309
DTEND;VALUE=DATE:20200316
DTSTAMP:20260421T193139
CREATED:20200313T201241Z
LAST-MODIFIED:20200318T174319Z
UID:3657-1583712000-1584316799@ligaufd.mx
SUMMARY:Transitorio
DESCRIPTION:Periodo transitorio debido al puente del 16 de marzo. \n
URL:https://ligaufd.mx/evento/transitorio/
CATEGORIES:General
END:VEVENT
END:VCALENDAR